BEGIN:VCALENDAR
VERSION:2.0
PRODID:-//Oregon Tradeswomen - ECPv6.15.20//NONSGML v1.0//EN
CALSCALE:GREGORIAN
METHOD:PUBLISH
X-WR-CALNAME:Oregon Tradeswomen
X-ORIGINAL-URL:https://oregontradeswomen.org
X-WR-CALDESC:Events for Oregon Tradeswomen
REFRESH-INTERVAL;VALUE=DURATION:PT1H
X-Robots-Tag:noindex
X-PUBLISHED-TTL:PT1H
BEGIN:VTIMEZONE
TZID:America/Los_Angeles
BEGIN:DAYLIGHT
TZOFFSETFROM:-0800
TZOFFSETTO:-0700
TZNAME:PDT
DTSTART:20220313T100000
END:DAYLIGHT
BEGIN:STANDARD
TZOFFSETFROM:-0700
TZOFFSETTO:-0800
TZNAME:PST
DTSTART:20221106T090000
END:STANDARD
BEGIN:DAYLIGHT
TZOFFSETFROM:-0800
TZOFFSETTO:-0700
TZNAME:PDT
DTSTART:20230312T100000
END:DAYLIGHT
BEGIN:STANDARD
TZOFFSETFROM:-0700
TZOFFSETTO:-0800
TZNAME:PST
DTSTART:20231105T090000
END:STANDARD
BEGIN:DAYLIGHT
TZOFFSETFROM:-0800
TZOFFSETTO:-0700
TZNAME:PDT
DTSTART:20240310T100000
END:DAYLIGHT
BEGIN:STANDARD
TZOFFSETFROM:-0700
TZOFFSETTO:-0800
TZNAME:PST
DTSTART:20241103T090000
END:STANDARD
END:VTIMEZONE
BEGIN:VEVENT
DTSTART;VALUE=DATE:20230117
DTEND;VALUE=DATE:20230310
DTSTAMP:20260419T073040
CREATED:20230107T001657Z
LAST-MODIFIED:20230107T001657Z
UID:14113-1673913600-1678406399@oregontradeswomen.org
SUMMARY:TACC Portland:  Winter 2023
DESCRIPTION:
URL:https://oregontradeswomen.org/event/tacc-portland-winter-2023/
LOCATION:OR
END:VEVENT
BEGIN:VEVENT
DTSTART;VALUE=DATE:20230130
DTEND;VALUE=DATE:20230304
DTSTAMP:20260419T073040
CREATED:20230107T001955Z
LAST-MODIFIED:20230107T001955Z
UID:14114-1675036800-1677887999@oregontradeswomen.org
SUMMARY:TACC Laborer's Focused Pre-Apprenticeship in The Dalles
DESCRIPTION:
URL:https://oregontradeswomen.org/event/tacc-laborers-focused-pre-apprenticeship-in-the-dalles/
LOCATION:OR
END:VEVENT
END:VCALENDAR