BEGIN:VCALENDAR
VERSION:2.0
PRODID:-//Oregon Tradeswomen - ECPv6.15.20//NONSGML v1.0//EN
CALSCALE:GREGORIAN
METHOD:PUBLISH
X-WR-CALNAME:Oregon Tradeswomen
X-ORIGINAL-URL:https://oregontradeswomen.org
X-WR-CALDESC:Events for Oregon Tradeswomen
REFRESH-INTERVAL;VALUE=DURATION:PT1H
X-Robots-Tag:noindex
X-PUBLISHED-TTL:PT1H
BEGIN:VTIMEZONE
TZID:America/Los_Angeles
BEGIN:DAYLIGHT
TZOFFSETFROM:-0800
TZOFFSETTO:-0700
TZNAME:PDT
DTSTART:20220313T100000
END:DAYLIGHT
BEGIN:STANDARD
TZOFFSETFROM:-0700
TZOFFSETTO:-0800
TZNAME:PST
DTSTART:20221106T090000
END:STANDARD
BEGIN:DAYLIGHT
TZOFFSETFROM:-0800
TZOFFSETTO:-0700
TZNAME:PDT
DTSTART:20230312T100000
END:DAYLIGHT
BEGIN:STANDARD
TZOFFSETFROM:-0700
TZOFFSETTO:-0800
TZNAME:PST
DTSTART:20231105T090000
END:STANDARD
BEGIN:DAYLIGHT
TZOFFSETFROM:-0800
TZOFFSETTO:-0700
TZNAME:PDT
DTSTART:20240310T100000
END:DAYLIGHT
BEGIN:STANDARD
TZOFFSETFROM:-0700
TZOFFSETTO:-0800
TZNAME:PST
DTSTART:20241103T090000
END:STANDARD
BEGIN:DAYLIGHT
TZOFFSETFROM:-0800
TZOFFSETTO:-0700
TZNAME:PDT
DTSTART:20250309T100000
END:DAYLIGHT
BEGIN:STANDARD
TZOFFSETFROM:-0700
TZOFFSETTO:-0800
TZNAME:PST
DTSTART:20251102T090000
END:STANDARD
END:VTIMEZONE
BEGIN:VEVENT
DTSTART;TZID=America/Los_Angeles:20230816T160000
DTEND;TZID=America/Los_Angeles:20230816T190000
DTSTAMP:20260424T055628
CREATED:20230119T234529Z
LAST-MODIFIED:20230726T203442Z
UID:14151-1692201600-1692212400@oregontradeswomen.org
SUMMARY:OTWednesdays: Tool + Gear Swap
DESCRIPTION:Have tools\, gear\, or equipment ready for a loving new home? Are you looking for new-to-you stuff? Come to Oregon Tradeswomen’s Summer Tool & Gear Swap! \nYou don’t need to bring anything to participate in the swap! \nYou can drop items off at Oregon Tradeswomen between 9:00 am – 4:00 pm Monday through Thursday. \nDon’t forget to bring boxes or bags to carry your finds! \nQuestions?\nContact Kim Neel: 503.335.8200 x 125 or kim@oregontradeswomen.org
URL:https://oregontradeswomen.org/event/otwednesdays-tool-gear-swap/
LOCATION:Oregon Tradeswomen\, 454 SE 187th Ave.\, Portland\, Oregon\, 97233\, United States
END:VEVENT
BEGIN:VEVENT
DTSTART;TZID=America/Los_Angeles:20230901T093000
DTEND;TZID=America/Los_Angeles:20230901T110000
DTSTAMP:20260424T055628
CREATED:20230613T224904Z
LAST-MODIFIED:20230613T224904Z
UID:14467-1693560600-1693566000@oregontradeswomen.org
SUMMARY:Union Building Trades Apprenticeship Programs Information Session
DESCRIPTION:Please join apprenticeship coordinators from Oregon and Southwest Washington for a virtual Union Apprenticeship Informational Session focused on training opportunities available through local apprenticeship programs.  This presentation will provide a general overview of apprenticeships (qualifications and requirements\, apprenticeship occupations\, program benefits\, and more) followed by an open discussion with Coordinators from specific trade apprenticeships. \nSeptember 1\, 2023 9:30 am – 11:00 am\nhttps://us02web.zoom.us/j/81270673248?pwd=bENPS1A1UjVtcjJndGdwMzlpUHJVQT09
URL:https://oregontradeswomen.org/event/union-building-trades-apprenticeship-programs-information-session/
LOCATION:On Zoom
END:VEVENT
BEGIN:VEVENT
DTSTART;TZID=America/Los_Angeles:20230904T080000
DTEND;TZID=America/Los_Angeles:20230904T170000
DTSTAMP:20260424T055628
CREATED:20221208T225836Z
LAST-MODIFIED:20221208T225836Z
UID:14066-1693814400-1693846800@oregontradeswomen.org
SUMMARY:Office Closed
DESCRIPTION:Oregon Tradeswomen’s offices are closed in recognition of the 2023 Labor Day holiday
URL:https://oregontradeswomen.org/event/office-closed-9/
END:VEVENT
BEGIN:VEVENT
DTSTART;TZID=America/Los_Angeles:20230914T130000
DTEND;TZID=America/Los_Angeles:20230914T150000
DTSTAMP:20260424T055628
CREATED:20230123T205244Z
LAST-MODIFIED:20230911T205723Z
UID:14162-1694696400-1694703600@oregontradeswomen.org
SUMMARY:TACC Summer 2023 Graduation
DESCRIPTION:For friends and family of Oregon Tradeswomen’s first graduating class in Lane County! \nUA Local 290\n2861 Pierce Parkway\nSpringfield OR 97477
URL:https://oregontradeswomen.org/event/tacc-spring-2023-graduation-2/
END:VEVENT
BEGIN:VEVENT
DTSTART;TZID=America/Los_Angeles:20230920T170000
DTEND;TZID=America/Los_Angeles:20230920T190000
DTSTAMP:20260424T055628
CREATED:20230119T234611Z
LAST-MODIFIED:20230119T234611Z
UID:14152-1695229200-1695236400@oregontradeswomen.org
SUMMARY:OTWednesdays: September Social Hour
DESCRIPTION:
URL:https://oregontradeswomen.org/event/otwednesdays-september-social-hour-2/
LOCATION:Migration Brewing\, 18188 NE Wilkes Rd\, Portland\, OR\, 97230
END:VEVENT
BEGIN:VEVENT
DTSTART;TZID=America/Los_Angeles:20230929T170000
DTEND;TZID=America/Los_Angeles:20230929T210000
DTSTAMP:20260424T055628
CREATED:20221208T230005Z
LAST-MODIFIED:20221208T230005Z
UID:14067-1696006800-1696021200@oregontradeswomen.org
SUMMARY:Build With Us! Blue Collar Gala & Industry Awards
DESCRIPTION:
URL:https://oregontradeswomen.org/event/build-with-us-blue-collar-gala-industry-awards/
END:VEVENT
BEGIN:VEVENT
DTSTART;VALUE=DATE:20231009
DTEND;VALUE=DATE:20231010
DTSTAMP:20260424T055628
CREATED:20230107T002929Z
LAST-MODIFIED:20230107T002929Z
UID:14116-1696809600-1696895999@oregontradeswomen.org
SUMMARY:Office Closed
DESCRIPTION:Oregon Tradeswomen’s offices are closed in recognition of Indigenous Peoples Day
URL:https://oregontradeswomen.org/event/office-closed-14/
END:VEVENT
BEGIN:VEVENT
DTSTART;VALUE=DATE:20231010
DTEND;VALUE=DATE:20231214
DTSTAMP:20260424T055628
CREATED:20230123T205414Z
LAST-MODIFIED:20230123T205414Z
UID:14163-1696896000-1702511999@oregontradeswomen.org
SUMMARY:TACC Portland: Fall 2023
DESCRIPTION:
URL:https://oregontradeswomen.org/event/tacc-portland-fall-2023/
END:VEVENT
BEGIN:VEVENT
DTSTART;TZID=America/Los_Angeles:20231018T090000
DTEND;TZID=America/Los_Angeles:20231018T160000
DTSTAMP:20260424T055628
CREATED:20230905T202733Z
LAST-MODIFIED:20230905T202733Z
UID:14633-1697619600-1697644800@oregontradeswomen.org
SUMMARY:Industry Connect: Get Started in Electrical Construction
DESCRIPTION:FREE Opportunity for students\, educators\, and community members! \nPlease join the Oregon-Columbia Chapter NECA and ELECTRI International for Industry Connect—an event designed to give students\, educators\, and other community members an opportunity to learn from the industry’s best while gaining hands-on experience with cutting-edge technology in the electrical construction industry. \nHigh school and college students interested in construction technology are encouraged to attend this event! Registration is free but space is limited. \nRegister today! \nDate + Time: \nWednesday\, October 18\, 2023 \nSession 1 | 9 am –1pm \nSession 2 | 12 pm – 4pm
URL:https://oregontradeswomen.org/event/industry-connect-get-started-in-electrical-construction/
LOCATION:1000 NE Multnomah St.\, Portland OR 97232\, 1000 NE Multnomah Street\, Portland\, Oregon\, 97232
END:VEVENT
BEGIN:VEVENT
DTSTART;TZID=America/Los_Angeles:20231018T170000
DTEND;TZID=America/Los_Angeles:20231018T190000
DTSTAMP:20260424T055628
CREATED:20230119T234710Z
LAST-MODIFIED:20230119T234710Z
UID:14153-1697648400-1697655600@oregontradeswomen.org
SUMMARY:OTWednesdays: October Social Hour
DESCRIPTION:
URL:https://oregontradeswomen.org/event/otwednesdays-october-social-hour-2/
LOCATION:Migration Brewing\, 18188 NE Wilkes Rd\, Portland\, OR\, 97230
END:VEVENT
BEGIN:VEVENT
DTSTART;TZID=America/Los_Angeles:20231107T080000
DTEND;TZID=America/Los_Angeles:20231109T170000
DTSTAMP:20260424T055628
CREATED:20230913T160432Z
LAST-MODIFIED:20230913T161402Z
UID:14643-1699344000-1699549200@oregontradeswomen.org
SUMMARY:Oregon Solar + Storage Conference
DESCRIPTION:  \nThe Nation’s Most Beloved Regional Solar + Storage Conference \nHeld at Portland Crowne Plaza near the Convention Center \nvisit https://www.orssia.org/osec for information about the conference\,  or to register as a participant or volunteer!
URL:https://oregontradeswomen.org/event/oregon-solar-storage-conference-3/
END:VEVENT
BEGIN:VEVENT
DTSTART;VALUE=DATE:20231111
DTEND;VALUE=DATE:20231112
DTSTAMP:20260424T055628
CREATED:20230107T002812Z
LAST-MODIFIED:20231031T190308Z
UID:14115-1699660800-1699747199@oregontradeswomen.org
SUMMARY:Office Closed
DESCRIPTION:Oregon Tradeswomen’s offices are closed in recognition of the Veterans Day 2023
URL:https://oregontradeswomen.org/event/office-closed-13/
END:VEVENT
BEGIN:VEVENT
DTSTART;TZID=America/Los_Angeles:20231113T080000
DTEND;TZID=America/Los_Angeles:20231119T170000
DTSTAMP:20260424T055628
CREATED:20221208T234311Z
LAST-MODIFIED:20221208T234311Z
UID:14069-1699862400-1700413200@oregontradeswomen.org
SUMMARY:National Apprenticeship Week
DESCRIPTION:
URL:https://oregontradeswomen.org/event/national-apprenticeship-week-3/
END:VEVENT
BEGIN:VEVENT
DTSTART;TZID=America/Los_Angeles:20231115T170000
DTEND;TZID=America/Los_Angeles:20231115T190000
DTSTAMP:20260424T055628
CREATED:20230119T234746Z
LAST-MODIFIED:20230119T234746Z
UID:14154-1700067600-1700074800@oregontradeswomen.org
SUMMARY:OTWednesdays: November Social Hour
DESCRIPTION:
URL:https://oregontradeswomen.org/event/otwednesdays-november-social-hour-2/
LOCATION:Migration Brewing\, 18188 NE Wilkes Rd\, Portland\, OR\, 97230
END:VEVENT
BEGIN:VEVENT
DTSTART;TZID=America/Los_Angeles:20231116T080000
DTEND;TZID=America/Los_Angeles:20231116T170000
DTSTAMP:20260424T055628
CREATED:20221208T234408Z
LAST-MODIFIED:20221208T234408Z
UID:14070-1700121600-1700154000@oregontradeswomen.org
SUMMARY:Women in Apprenticeship Day
DESCRIPTION:
URL:https://oregontradeswomen.org/event/women-in-apprenticeship-day-3/
END:VEVENT
BEGIN:VEVENT
DTSTART;TZID=America/Los_Angeles:20231118T080000
DTEND;TZID=America/Los_Angeles:20231118T170000
DTSTAMP:20260424T055628
CREATED:20221208T230109Z
LAST-MODIFIED:20221208T234211Z
UID:14068-1700294400-1700326800@oregontradeswomen.org
SUMMARY:Tradesworker Leadership Institute
DESCRIPTION:Time and Location TBD
URL:https://oregontradeswomen.org/event/tradesworker-leadership-institute-2/
END:VEVENT
BEGIN:VEVENT
DTSTART;TZID=America/Los_Angeles:20231123T080000
DTEND;TZID=America/Los_Angeles:20231124T170000
DTSTAMP:20260424T055628
CREATED:20221208T234532Z
LAST-MODIFIED:20221208T234532Z
UID:14071-1700726400-1700845200@oregontradeswomen.org
SUMMARY:Office Closed
DESCRIPTION:Oregon Tradeswomen’s offices are closed in recognition of the 2023 Thanksgiving Holiday
URL:https://oregontradeswomen.org/event/office-closed-10/
END:VEVENT
BEGIN:VEVENT
DTSTART;VALUE=DATE:20231201
DTEND;VALUE=DATE:20231204
DTSTAMP:20260424T055628
CREATED:20230913T154451Z
LAST-MODIFIED:20230913T154616Z
UID:14641-1701388800-1701647999@oregontradeswomen.org
SUMMARY:Tradeswomen Build Nations
DESCRIPTION:The largest gathering of tradeswomen in the world happens December 1-3\, 2023\, in Washington D.C. \nVisit the official webpage for details and hotel booking information:\nhttps://nabtu.org/twbn
URL:https://oregontradeswomen.org/event/tradeswomen-build-nations/
END:VEVENT
BEGIN:VEVENT
DTSTART;TZID=America/Los_Angeles:20231201T093000
DTEND;TZID=America/Los_Angeles:20231201T110000
DTSTAMP:20260424T055628
CREATED:20230613T225003Z
LAST-MODIFIED:20230613T225003Z
UID:14468-1701423000-1701428400@oregontradeswomen.org
SUMMARY:Union Building Trades Apprenticeship programs Information Session
DESCRIPTION:Please join apprenticeship coordinators from Oregon and Southwest Washington for a virtual Union Apprenticeship Informational Session focused on training opportunities available through local apprenticeship programs.  This presentation will provide a general overview of apprenticeships (qualifications and requirements\, apprenticeship occupations\, program benefits\, and more) followed by an open discussion with Coordinators from specific trade apprenticeships. \nSeptember 1\, 2023 9:30 am – 11:00 am
URL:https://oregontradeswomen.org/event/union-building-trades-apprenticeship-programs-information-session-2/
LOCATION:On Zoom
END:VEVENT
BEGIN:VEVENT
DTSTART;TZID=America/Los_Angeles:20231213T130000
DTEND;TZID=America/Los_Angeles:20231213T150000
DTSTAMP:20260424T055628
CREATED:20230123T205516Z
LAST-MODIFIED:20230123T205516Z
UID:14164-1702472400-1702479600@oregontradeswomen.org
SUMMARY:TACC Fall 2023 Graduation
DESCRIPTION:
URL:https://oregontradeswomen.org/event/tacc-fall-2023-graduation/
LOCATION:Oregon Tradeswomen\, 454 SE 187th Ave.\, Portland\, Oregon\, 97233\, United States
END:VEVENT
BEGIN:VEVENT
DTSTART;TZID=America/Los_Angeles:20231225T080000
DTEND;TZID=America/Los_Angeles:20231231T170000
DTSTAMP:20260424T055628
CREATED:20221208T234706Z
LAST-MODIFIED:20221208T234706Z
UID:14072-1703491200-1704042000@oregontradeswomen.org
SUMMARY:Office Closed
DESCRIPTION:Oregon Tradeswomen’s offices are closed for Winter Break.
URL:https://oregontradeswomen.org/event/office-closed-11/
END:VEVENT
BEGIN:VEVENT
DTSTART;TZID=America/Los_Angeles:20240101T080000
DTEND;TZID=America/Los_Angeles:20240101T170000
DTSTAMP:20260424T055628
CREATED:20221208T234754Z
LAST-MODIFIED:20221208T234754Z
UID:14073-1704096000-1704128400@oregontradeswomen.org
SUMMARY:Office Closed
DESCRIPTION:Oregon Tradeswomen’s offices are closed in recognition of the New Year’s Day holiday
URL:https://oregontradeswomen.org/event/office-closed-12/
END:VEVENT
BEGIN:VEVENT
DTSTART;TZID=America/Los_Angeles:20240116T080000
DTEND;TZID=America/Los_Angeles:20240307T170000
DTSTAMP:20260424T055628
CREATED:20230911T210141Z
LAST-MODIFIED:20240110T234839Z
UID:14638-1705392000-1709830800@oregontradeswomen.org
SUMMARY:TACC Portland: Winter 2024
DESCRIPTION:
URL:https://oregontradeswomen.org/event/tacc-portland-winter-2024/
LOCATION:Oregon Tradeswomen\, 454 SE 187th Ave.\, Portland\, Oregon\, 97233\, United States
END:VEVENT
BEGIN:VEVENT
DTSTART;TZID=America/Los_Angeles:20240117T170000
DTEND;TZID=America/Los_Angeles:20240117T190000
DTSTAMP:20260424T055628
CREATED:20240110T235249Z
LAST-MODIFIED:20240208T232432Z
UID:14815-1705510800-1705518000@oregontradeswomen.org
SUMMARY:January Social Hour
DESCRIPTION:Join us for Social Hours on the 3rd Wednesday of every month!\nView the full Social Hour schedule at oregontradeswomen.org/social-hours 
URL:https://oregontradeswomen.org/event/january-social-hour-2/
LOCATION:Migration Brewing\, 18188 NE Wilkes Rd\, Portland\, OR\, 97230
END:VEVENT
BEGIN:VEVENT
DTSTART;TZID=America/Los_Angeles:20240221T170000
DTEND;TZID=America/Los_Angeles:20240221T190000
DTSTAMP:20260424T055628
CREATED:20240111T000526Z
LAST-MODIFIED:20240208T232313Z
UID:14816-1708534800-1708542000@oregontradeswomen.org
SUMMARY:February Social Hour
DESCRIPTION:Join us for Social Hours on the 3rd Wednesday of every month at Migration Brewing in Gresham!\nView the full Social Hour schedule at oregontradeswomen.org/social-hours 
URL:https://oregontradeswomen.org/event/february-social-hour/
LOCATION:Migration Brewing\, 18188 NE Wilkes Rd\, Portland\, OR\, 97230
END:VEVENT
BEGIN:VEVENT
DTSTART;VALUE=DATE:20240326
DTEND;VALUE=DATE:20240524
DTSTAMP:20260424T055628
CREATED:20240110T234725Z
LAST-MODIFIED:20240110T234725Z
UID:14812-1711411200-1716508799@oregontradeswomen.org
SUMMARY:TACC Lane County: Spring 2024
DESCRIPTION:
URL:https://oregontradeswomen.org/event/tacc-lane-county-spring-2024/
END:VEVENT
BEGIN:VEVENT
DTSTART;TZID=America/Los_Angeles:20240517T090000
DTEND;TZID=America/Los_Angeles:20240518T150000
DTSTAMP:20260424T055628
CREATED:20240110T235136Z
LAST-MODIFIED:20240110T235136Z
UID:14814-1715936400-1716044400@oregontradeswomen.org
SUMMARY:Oregon Tradeswomen's 2024 Career Fair
DESCRIPTION:Friday\, May 17\nSchool Day – Registration Required \nSaturday\, May 18\nPublic Day – Free and open to everyone
URL:https://oregontradeswomen.org/event/oregon-tradeswomens-2024-career-fair/
LOCATION:NECA/IBEW Electrical Training Center\, 16021 NE Airport Way\, Portland\, OR\, 97233\, United States
END:VEVENT
BEGIN:VEVENT
DTSTART;VALUE=DATE:20240617
DTEND;VALUE=DATE:20240802
DTSTAMP:20260424T055628
CREATED:20240110T234951Z
LAST-MODIFIED:20240625T203236Z
UID:14813-1718582400-1722556799@oregontradeswomen.org
SUMMARY:TACC Portland: Summer 2024
DESCRIPTION:
URL:https://oregontradeswomen.org/event/tacc-portland-summer-2024/
END:VEVENT
BEGIN:VEVENT
DTSTART;VALUE=DATE:20240826
DTEND;VALUE=DATE:20241010
DTSTAMP:20260424T055628
CREATED:20240625T203407Z
LAST-MODIFIED:20240625T203407Z
UID:15156-1724630400-1728518399@oregontradeswomen.org
SUMMARY:TACC Portland: Fall 2024
DESCRIPTION:
URL:https://oregontradeswomen.org/event/tacc-portland-fall-2024/
LOCATION:Oregon Tradeswomen\, 454 SE 187th Ave.\, Portland\, Oregon\, 97233\, United States
END:VEVENT
BEGIN:VEVENT
DTSTART;VALUE=DATE:20241104
DTEND;VALUE=DATE:20241220
DTSTAMP:20260424T055628
CREATED:20240625T204505Z
LAST-MODIFIED:20240625T204505Z
UID:15157-1730678400-1734652799@oregontradeswomen.org
SUMMARY:TACC Portland: Winter 2024
DESCRIPTION:
URL:https://oregontradeswomen.org/event/tacc-portland-winter-2024-2/
LOCATION:Oregon Tradeswomen\, 454 SE 187th Ave.\, Portland\, Oregon\, 97233\, United States
END:VEVENT
END:VCALENDAR